BEGIN:VCALENDAR
VERSION:2.0
PRODID:-//Presentation Secondary School Listowel - ECPv6.15.18//NONSGML v1.0//EN
CALSCALE:GREGORIAN
METHOD:PUBLISH
X-WR-CALNAME:Presentation Secondary School Listowel
X-ORIGINAL-URL:https://presentationsecondarylistowel.ie
X-WR-CALDESC:Events for Presentation Secondary School Listowel
REFRESH-INTERVAL;VALUE=DURATION:PT1H
X-Robots-Tag:noindex
X-PUBLISHED-TTL:PT1H
BEGIN:VTIMEZONE
TZID:Europe/Paris
BEGIN:DAYLIGHT
TZOFFSETFROM:+0100
TZOFFSETTO:+0200
TZNAME:CEST
DTSTART:20220327T010000
END:DAYLIGHT
BEGIN:STANDARD
TZOFFSETFROM:+0200
TZOFFSETTO:+0100
TZNAME:CET
DTSTART:20221030T010000
END:STANDARD
BEGIN:DAYLIGHT
TZOFFSETFROM:+0100
TZOFFSETTO:+0200
TZNAME:CEST
DTSTART:20230326T010000
END:DAYLIGHT
BEGIN:STANDARD
TZOFFSETFROM:+0200
TZOFFSETTO:+0100
TZNAME:CET
DTSTART:20231029T010000
END:STANDARD
BEGIN:DAYLIGHT
TZOFFSETFROM:+0100
TZOFFSETTO:+0200
TZNAME:CEST
DTSTART:20240331T010000
END:DAYLIGHT
BEGIN:STANDARD
TZOFFSETFROM:+0200
TZOFFSETTO:+0100
TZNAME:CET
DTSTART:20241027T010000
END:STANDARD
END:VTIMEZONE
BEGIN:VEVENT
DTSTART;TZID=Europe/Paris:20231019T163000
DTEND;TZID=Europe/Paris:20231019T190000
DTSTAMP:20260422T011808
CREATED:20230925T144723Z
LAST-MODIFIED:20230925T144723Z
UID:11655-1697733000-1697742000@presentationsecondarylistowel.ie
SUMMARY:Open Night For Incoming 1st Year Students
DESCRIPTION:
URL:https://presentationsecondarylistowel.ie/event/open-night-for-incoming-1st-year-students/
END:VEVENT
END:VCALENDAR